BEGIN:VCALENDAR
VERSION:2.0
PRODID:-//Ananda Ahmedabad - ECPv6.15.17//NONSGML v1.0//EN
CALSCALE:GREGORIAN
METHOD:PUBLISH
X-ORIGINAL-URL:https://anandaahmedabad.org
X-WR-CALDESC:Events for Ananda Ahmedabad
REFRESH-INTERVAL;VALUE=DURATION:PT1H
X-Robots-Tag:noindex
X-PUBLISHED-TTL:PT1H
BEGIN:VTIMEZONE
TZID:UTC
BEGIN:STANDARD
TZOFFSETFROM:+0000
TZOFFSETTO:+0000
TZNAME:UTC
DTSTART:20270101T000000
END:STANDARD
END:VTIMEZONE
BEGIN:VEVENT
DTSTART;TZID=UTC:20280111T064500
DTEND;TZID=UTC:20280111T073000
DTSTAMP:20260422T110412
CREATED:20211201T114604Z
LAST-MODIFIED:20211201T114604Z
UID:5363-1831185900-1831188600@anandaahmedabad.org
SUMMARY:Morning Meditation
DESCRIPTION:
URL:https://anandaahmedabad.org/event/morning-meditation-tue-fri/2028-01-11/
END:VEVENT
BEGIN:VEVENT
DTSTART;TZID=UTC:20280112T064500
DTEND;TZID=UTC:20280112T073000
DTSTAMP:20260422T110412
CREATED:20211201T114604Z
LAST-MODIFIED:20211201T114604Z
UID:5364-1831272300-1831275000@anandaahmedabad.org
SUMMARY:Morning Meditation
DESCRIPTION:
URL:https://anandaahmedabad.org/event/morning-meditation-tue-fri/2028-01-12/
END:VEVENT
BEGIN:VEVENT
DTSTART;TZID=UTC:20280113T064500
DTEND;TZID=UTC:20280113T073000
DTSTAMP:20260422T110412
CREATED:20211201T114604Z
LAST-MODIFIED:20211201T114604Z
UID:5365-1831358700-1831361400@anandaahmedabad.org
SUMMARY:Morning Meditation
DESCRIPTION:
URL:https://anandaahmedabad.org/event/morning-meditation-tue-fri/2028-01-13/
END:VEVENT
BEGIN:VEVENT
DTSTART;TZID=UTC:20280113T184500
DTEND;TZID=UTC:20280113T193000
DTSTAMP:20260422T110412
CREATED:20211201T115547Z
LAST-MODIFIED:20211201T115547Z
UID:5412-1831401900-1831404600@anandaahmedabad.org
SUMMARY:Evening Meditation
DESCRIPTION:We start with Energization Exercises\, followed by chanting and meditation for about 22 minutes.
URL:https://anandaahmedabad.org/event/evening-meditation/2028-01-13/
END:VEVENT
BEGIN:VEVENT
DTSTART;TZID=UTC:20280113T184500
DTEND;TZID=UTC:20280113T193000
DTSTAMP:20260422T110412
CREATED:20211201T115547Z
LAST-MODIFIED:20211201T115547Z
UID:5440-1831401900-1831404600@anandaahmedabad.org
SUMMARY:Evening Meditation
DESCRIPTION:We start with Energization Exercises\, followed by chanting and meditation for about 22 minutes.
URL:https://anandaahmedabad.org/event/evening-meditation/2028-01-13/
END:VEVENT
BEGIN:VEVENT
DTSTART;TZID=UTC:20280114T064500
DTEND;TZID=UTC:20280114T073000
DTSTAMP:20260422T110412
CREATED:20211201T114604Z
LAST-MODIFIED:20211201T114604Z
UID:5366-1831445100-1831447800@anandaahmedabad.org
SUMMARY:Morning Meditation
DESCRIPTION:
URL:https://anandaahmedabad.org/event/morning-meditation-tue-fri/2028-01-14/
END:VEVENT
BEGIN:VEVENT
DTSTART;TZID=UTC:20280115T190000
DTEND;TZID=UTC:20280115T193000
DTSTAMP:20260422T110412
CREATED:20211201T120953Z
LAST-MODIFIED:20211201T120953Z
UID:5468-1831575600-1831577400@anandaahmedabad.org
SUMMARY:Evening Meditation
DESCRIPTION:We start with a chant followed by meditation of 22 minutes.
URL:https://anandaahmedabad.org/event/evening-meditation-2/2028-01-15/
END:VEVENT
BEGIN:VEVENT
DTSTART;TZID=UTC:20280118T064500
DTEND;TZID=UTC:20280118T073000
DTSTAMP:20260422T110412
CREATED:20211201T114604Z
LAST-MODIFIED:20211201T114604Z
UID:5367-1831790700-1831793400@anandaahmedabad.org
SUMMARY:Morning Meditation
DESCRIPTION:
URL:https://anandaahmedabad.org/event/morning-meditation-tue-fri/2028-01-18/
END:VEVENT
BEGIN:VEVENT
DTSTART;TZID=UTC:20280119T064500
DTEND;TZID=UTC:20280119T073000
DTSTAMP:20260422T110412
CREATED:20211201T114604Z
LAST-MODIFIED:20211201T114604Z
UID:5368-1831877100-1831879800@anandaahmedabad.org
SUMMARY:Morning Meditation
DESCRIPTION:
URL:https://anandaahmedabad.org/event/morning-meditation-tue-fri/2028-01-19/
END:VEVENT
BEGIN:VEVENT
DTSTART;TZID=UTC:20280120T064500
DTEND;TZID=UTC:20280120T073000
DTSTAMP:20260422T110412
CREATED:20211201T114604Z
LAST-MODIFIED:20211201T114604Z
UID:5369-1831963500-1831966200@anandaahmedabad.org
SUMMARY:Morning Meditation
DESCRIPTION:
URL:https://anandaahmedabad.org/event/morning-meditation-tue-fri/2028-01-20/
END:VEVENT
BEGIN:VEVENT
DTSTART;TZID=UTC:20280120T184500
DTEND;TZID=UTC:20280120T193000
DTSTAMP:20260422T110412
CREATED:20211201T115547Z
LAST-MODIFIED:20211201T115547Z
UID:5413-1832006700-1832009400@anandaahmedabad.org
SUMMARY:Evening Meditation
DESCRIPTION:We start with Energization Exercises\, followed by chanting and meditation for about 22 minutes.
URL:https://anandaahmedabad.org/event/evening-meditation/2028-01-20/
END:VEVENT
BEGIN:VEVENT
DTSTART;TZID=UTC:20280120T184500
DTEND;TZID=UTC:20280120T193000
DTSTAMP:20260422T110412
CREATED:20211201T115547Z
LAST-MODIFIED:20211201T115547Z
UID:5441-1832006700-1832009400@anandaahmedabad.org
SUMMARY:Evening Meditation
DESCRIPTION:We start with Energization Exercises\, followed by chanting and meditation for about 22 minutes.
URL:https://anandaahmedabad.org/event/evening-meditation/2028-01-20/
END:VEVENT
BEGIN:VEVENT
DTSTART;TZID=UTC:20280121T064500
DTEND;TZID=UTC:20280121T073000
DTSTAMP:20260422T110412
CREATED:20211201T114604Z
LAST-MODIFIED:20211201T114604Z
UID:5370-1832049900-1832052600@anandaahmedabad.org
SUMMARY:Morning Meditation
DESCRIPTION:
URL:https://anandaahmedabad.org/event/morning-meditation-tue-fri/2028-01-21/
END:VEVENT
BEGIN:VEVENT
DTSTART;TZID=UTC:20280122T190000
DTEND;TZID=UTC:20280122T193000
DTSTAMP:20260422T110412
CREATED:20211201T120953Z
LAST-MODIFIED:20211201T120953Z
UID:5469-1832180400-1832182200@anandaahmedabad.org
SUMMARY:Evening Meditation
DESCRIPTION:We start with a chant followed by meditation of 22 minutes.
URL:https://anandaahmedabad.org/event/evening-meditation-2/2028-01-22/
END:VEVENT
BEGIN:VEVENT
DTSTART;TZID=UTC:20280125T064500
DTEND;TZID=UTC:20280125T073000
DTSTAMP:20260422T110412
CREATED:20211201T114604Z
LAST-MODIFIED:20211201T114604Z
UID:5371-1832395500-1832398200@anandaahmedabad.org
SUMMARY:Morning Meditation
DESCRIPTION:
URL:https://anandaahmedabad.org/event/morning-meditation-tue-fri/2028-01-25/
END:VEVENT
BEGIN:VEVENT
DTSTART;TZID=UTC:20280126T064500
DTEND;TZID=UTC:20280126T073000
DTSTAMP:20260422T110412
CREATED:20211201T114604Z
LAST-MODIFIED:20211201T114604Z
UID:5372-1832481900-1832484600@anandaahmedabad.org
SUMMARY:Morning Meditation
DESCRIPTION:
URL:https://anandaahmedabad.org/event/morning-meditation-tue-fri/2028-01-26/
END:VEVENT
BEGIN:VEVENT
DTSTART;TZID=UTC:20280127T064500
DTEND;TZID=UTC:20280127T073000
DTSTAMP:20260422T110412
CREATED:20211201T114604Z
LAST-MODIFIED:20211201T114604Z
UID:5373-1832568300-1832571000@anandaahmedabad.org
SUMMARY:Morning Meditation
DESCRIPTION:
URL:https://anandaahmedabad.org/event/morning-meditation-tue-fri/2028-01-27/
END:VEVENT
BEGIN:VEVENT
DTSTART;TZID=UTC:20280127T184500
DTEND;TZID=UTC:20280127T193000
DTSTAMP:20260422T110412
CREATED:20211201T115547Z
LAST-MODIFIED:20211201T115547Z
UID:5414-1832611500-1832614200@anandaahmedabad.org
SUMMARY:Evening Meditation
DESCRIPTION:We start with Energization Exercises\, followed by chanting and meditation for about 22 minutes.
URL:https://anandaahmedabad.org/event/evening-meditation/2028-01-27/
END:VEVENT
BEGIN:VEVENT
DTSTART;TZID=UTC:20280127T184500
DTEND;TZID=UTC:20280127T193000
DTSTAMP:20260422T110412
CREATED:20211201T115547Z
LAST-MODIFIED:20211201T115547Z
UID:5442-1832611500-1832614200@anandaahmedabad.org
SUMMARY:Evening Meditation
DESCRIPTION:We start with Energization Exercises\, followed by chanting and meditation for about 22 minutes.
URL:https://anandaahmedabad.org/event/evening-meditation/2028-01-27/
END:VEVENT
BEGIN:VEVENT
DTSTART;TZID=UTC:20280128T064500
DTEND;TZID=UTC:20280128T073000
DTSTAMP:20260422T110412
CREATED:20211201T114604Z
LAST-MODIFIED:20211201T114604Z
UID:5374-1832654700-1832657400@anandaahmedabad.org
SUMMARY:Morning Meditation
DESCRIPTION:
URL:https://anandaahmedabad.org/event/morning-meditation-tue-fri/2028-01-28/
END:VEVENT
BEGIN:VEVENT
DTSTART;TZID=UTC:20280129T190000
DTEND;TZID=UTC:20280129T193000
DTSTAMP:20260422T110412
CREATED:20211201T120953Z
LAST-MODIFIED:20211201T120953Z
UID:5470-1832785200-1832787000@anandaahmedabad.org
SUMMARY:Evening Meditation
DESCRIPTION:We start with a chant followed by meditation of 22 minutes.
URL:https://anandaahmedabad.org/event/evening-meditation-2/2028-01-29/
END:VEVENT
BEGIN:VEVENT
DTSTART;TZID=UTC:20280201T064500
DTEND;TZID=UTC:20280201T073000
DTSTAMP:20260422T110412
CREATED:20211201T114604Z
LAST-MODIFIED:20211201T114604Z
UID:5375-1833000300-1833003000@anandaahmedabad.org
SUMMARY:Morning Meditation
DESCRIPTION:
URL:https://anandaahmedabad.org/event/morning-meditation-tue-fri/2028-02-01/
END:VEVENT
BEGIN:VEVENT
DTSTART;TZID=UTC:20280202T064500
DTEND;TZID=UTC:20280202T073000
DTSTAMP:20260422T110412
CREATED:20211201T114604Z
LAST-MODIFIED:20211201T114604Z
UID:5376-1833086700-1833089400@anandaahmedabad.org
SUMMARY:Morning Meditation
DESCRIPTION:
URL:https://anandaahmedabad.org/event/morning-meditation-tue-fri/2028-02-02/
END:VEVENT
BEGIN:VEVENT
DTSTART;TZID=UTC:20280203T064500
DTEND;TZID=UTC:20280203T073000
DTSTAMP:20260422T110412
CREATED:20211201T114604Z
LAST-MODIFIED:20211201T114604Z
UID:5377-1833173100-1833175800@anandaahmedabad.org
SUMMARY:Morning Meditation
DESCRIPTION:
URL:https://anandaahmedabad.org/event/morning-meditation-tue-fri/2028-02-03/
END:VEVENT
BEGIN:VEVENT
DTSTART;TZID=UTC:20280203T184500
DTEND;TZID=UTC:20280203T193000
DTSTAMP:20260422T110412
CREATED:20211201T115547Z
LAST-MODIFIED:20211201T115547Z
UID:5415-1833216300-1833219000@anandaahmedabad.org
SUMMARY:Evening Meditation
DESCRIPTION:We start with Energization Exercises\, followed by chanting and meditation for about 22 minutes.
URL:https://anandaahmedabad.org/event/evening-meditation/2028-02-03/
END:VEVENT
BEGIN:VEVENT
DTSTART;TZID=UTC:20280203T184500
DTEND;TZID=UTC:20280203T193000
DTSTAMP:20260422T110412
CREATED:20211201T115547Z
LAST-MODIFIED:20211201T115547Z
UID:5443-1833216300-1833219000@anandaahmedabad.org
SUMMARY:Evening Meditation
DESCRIPTION:We start with Energization Exercises\, followed by chanting and meditation for about 22 minutes.
URL:https://anandaahmedabad.org/event/evening-meditation/2028-02-03/
END:VEVENT
BEGIN:VEVENT
DTSTART;TZID=UTC:20280204T064500
DTEND;TZID=UTC:20280204T073000
DTSTAMP:20260422T110412
CREATED:20211201T114604Z
LAST-MODIFIED:20211201T114604Z
UID:5378-1833259500-1833262200@anandaahmedabad.org
SUMMARY:Morning Meditation
DESCRIPTION:
URL:https://anandaahmedabad.org/event/morning-meditation-tue-fri/2028-02-04/
END:VEVENT
BEGIN:VEVENT
DTSTART;TZID=UTC:20280205T190000
DTEND;TZID=UTC:20280205T193000
DTSTAMP:20260422T110412
CREATED:20211201T120953Z
LAST-MODIFIED:20211201T120953Z
UID:5471-1833390000-1833391800@anandaahmedabad.org
SUMMARY:Evening Meditation
DESCRIPTION:We start with a chant followed by meditation of 22 minutes.
URL:https://anandaahmedabad.org/event/evening-meditation-2/2028-02-05/
END:VEVENT
BEGIN:VEVENT
DTSTART;TZID=UTC:20280208T064500
DTEND;TZID=UTC:20280208T073000
DTSTAMP:20260422T110412
CREATED:20211201T114604Z
LAST-MODIFIED:20211201T114604Z
UID:5379-1833605100-1833607800@anandaahmedabad.org
SUMMARY:Morning Meditation
DESCRIPTION:
URL:https://anandaahmedabad.org/event/morning-meditation-tue-fri/2028-02-08/
END:VEVENT
BEGIN:VEVENT
DTSTART;TZID=UTC:20280209T064500
DTEND;TZID=UTC:20280209T073000
DTSTAMP:20260422T110412
CREATED:20211201T114604Z
LAST-MODIFIED:20211201T114604Z
UID:5380-1833691500-1833694200@anandaahmedabad.org
SUMMARY:Morning Meditation
DESCRIPTION:
URL:https://anandaahmedabad.org/event/morning-meditation-tue-fri/2028-02-09/
END:VEVENT
END:VCALENDAR