BEGIN:VCALENDAR
VERSION:2.0
PRODID:-//Ananda Ahmedabad - ECPv6.15.17//NONSGML v1.0//EN
CALSCALE:GREGORIAN
METHOD:PUBLISH
X-ORIGINAL-URL:https://anandaahmedabad.org
X-WR-CALDESC:Events for Ananda Ahmedabad
REFRESH-INTERVAL;VALUE=DURATION:PT1H
X-Robots-Tag:noindex
X-PUBLISHED-TTL:PT1H
BEGIN:VTIMEZONE
TZID:UTC
BEGIN:STANDARD
TZOFFSETFROM:+0000
TZOFFSETTO:+0000
TZNAME:UTC
DTSTART:20270101T000000
END:STANDARD
END:VTIMEZONE
BEGIN:VEVENT
DTSTART;TZID=UTC:20280412T060000
DTEND;TZID=UTC:20280412T064500
DTSTAMP:20260424T075341
CREATED:20211201T114604Z
LAST-MODIFIED:20211201T114604Z
UID:5787-1839132000-1839134700@anandaahmedabad.org
SUMMARY:Morning Meditation
DESCRIPTION:
URL:https://anandaahmedabad.org/event/morning-meditation-tue-fri-2026-02-26/2028-04-12/
END:VEVENT
BEGIN:VEVENT
DTSTART;TZID=UTC:20280412T064500
DTEND;TZID=UTC:20280412T073000
DTSTAMP:20260424T075341
CREATED:20211201T114604Z
LAST-MODIFIED:20211201T114604Z
UID:5786-1839134700-1839137400@anandaahmedabad.org
SUMMARY:Morning Meditation
DESCRIPTION:
URL:https://anandaahmedabad.org/event/morning-meditation-tue-fri/2028-04-12/
END:VEVENT
BEGIN:VEVENT
DTSTART;TZID=UTC:20280413T060000
DTEND;TZID=UTC:20280413T064500
DTSTAMP:20260424T075341
CREATED:20211201T114604Z
LAST-MODIFIED:20211201T114604Z
UID:5791-1839218400-1839221100@anandaahmedabad.org
SUMMARY:Morning Meditation
DESCRIPTION:
URL:https://anandaahmedabad.org/event/morning-meditation-tue-fri-2026-02-26/2028-04-13/
END:VEVENT
BEGIN:VEVENT
DTSTART;TZID=UTC:20280413T064500
DTEND;TZID=UTC:20280413T073000
DTSTAMP:20260424T075341
CREATED:20211201T114604Z
LAST-MODIFIED:20211201T114604Z
UID:5788-1839221100-1839223800@anandaahmedabad.org
SUMMARY:Morning Meditation
DESCRIPTION:
URL:https://anandaahmedabad.org/event/morning-meditation-tue-fri/2028-04-13/
END:VEVENT
BEGIN:VEVENT
DTSTART;TZID=UTC:20280413T184500
DTEND;TZID=UTC:20280413T193000
DTSTAMP:20260424T075341
CREATED:20211201T115547Z
LAST-MODIFIED:20211201T115547Z
UID:5789-1839264300-1839267000@anandaahmedabad.org
SUMMARY:Evening Meditation
DESCRIPTION:We start with Energization Exercises\, followed by chanting and meditation for about 22 minutes.
URL:https://anandaahmedabad.org/event/evening-meditation/2028-04-13/
END:VEVENT
BEGIN:VEVENT
DTSTART;TZID=UTC:20280413T184500
DTEND;TZID=UTC:20280413T193000
DTSTAMP:20260424T075341
CREATED:20211201T115547Z
LAST-MODIFIED:20211201T115547Z
UID:5790-1839264300-1839267000@anandaahmedabad.org
SUMMARY:Evening Meditation
DESCRIPTION:We start with Energization Exercises\, followed by chanting and meditation for about 22 minutes.
URL:https://anandaahmedabad.org/event/evening-meditation/2028-04-13/
END:VEVENT
BEGIN:VEVENT
DTSTART;TZID=UTC:20280414T060000
DTEND;TZID=UTC:20280414T064500
DTSTAMP:20260424T075341
CREATED:20211201T114604Z
LAST-MODIFIED:20211201T114604Z
UID:5793-1839304800-1839307500@anandaahmedabad.org
SUMMARY:Morning Meditation
DESCRIPTION:
URL:https://anandaahmedabad.org/event/morning-meditation-tue-fri-2026-02-26/2028-04-14/
END:VEVENT
BEGIN:VEVENT
DTSTART;TZID=UTC:20280414T064500
DTEND;TZID=UTC:20280414T073000
DTSTAMP:20260424T075341
CREATED:20211201T114604Z
LAST-MODIFIED:20211201T114604Z
UID:5792-1839307500-1839310200@anandaahmedabad.org
SUMMARY:Morning Meditation
DESCRIPTION:
URL:https://anandaahmedabad.org/event/morning-meditation-tue-fri/2028-04-14/
END:VEVENT
BEGIN:VEVENT
DTSTART;TZID=UTC:20280415T190000
DTEND;TZID=UTC:20280415T193000
DTSTAMP:20260424T075341
CREATED:20211201T120953Z
LAST-MODIFIED:20211201T120953Z
UID:5799-1839438000-1839439800@anandaahmedabad.org
SUMMARY:Evening Meditation
DESCRIPTION:We start with a chant followed by meditation of 22 minutes.
URL:https://anandaahmedabad.org/event/evening-meditation-2/2028-04-15/
END:VEVENT
BEGIN:VEVENT
DTSTART;TZID=UTC:20280418T060000
DTEND;TZID=UTC:20280418T064500
DTSTAMP:20260424T075341
CREATED:20211201T114604Z
LAST-MODIFIED:20211201T114604Z
UID:5803-1839650400-1839653100@anandaahmedabad.org
SUMMARY:Morning Meditation
DESCRIPTION:
URL:https://anandaahmedabad.org/event/morning-meditation-tue-fri-2026-02-26/2028-04-18/
END:VEVENT
BEGIN:VEVENT
DTSTART;TZID=UTC:20280418T064500
DTEND;TZID=UTC:20280418T073000
DTSTAMP:20260424T075341
CREATED:20211201T114604Z
LAST-MODIFIED:20211201T114604Z
UID:5802-1839653100-1839655800@anandaahmedabad.org
SUMMARY:Morning Meditation
DESCRIPTION:
URL:https://anandaahmedabad.org/event/morning-meditation-tue-fri/2028-04-18/
END:VEVENT
BEGIN:VEVENT
DTSTART;TZID=UTC:20280419T060000
DTEND;TZID=UTC:20280419T064500
DTSTAMP:20260424T075341
CREATED:20211201T114604Z
LAST-MODIFIED:20211201T114604Z
UID:5805-1839736800-1839739500@anandaahmedabad.org
SUMMARY:Morning Meditation
DESCRIPTION:
URL:https://anandaahmedabad.org/event/morning-meditation-tue-fri-2026-02-26/2028-04-19/
END:VEVENT
BEGIN:VEVENT
DTSTART;TZID=UTC:20280419T064500
DTEND;TZID=UTC:20280419T073000
DTSTAMP:20260424T075341
CREATED:20211201T114604Z
LAST-MODIFIED:20211201T114604Z
UID:5804-1839739500-1839742200@anandaahmedabad.org
SUMMARY:Morning Meditation
DESCRIPTION:
URL:https://anandaahmedabad.org/event/morning-meditation-tue-fri/2028-04-19/
END:VEVENT
BEGIN:VEVENT
DTSTART;TZID=UTC:20280420T060000
DTEND;TZID=UTC:20280420T064500
DTSTAMP:20260424T075341
CREATED:20211201T114604Z
LAST-MODIFIED:20211201T114604Z
UID:5809-1839823200-1839825900@anandaahmedabad.org
SUMMARY:Morning Meditation
DESCRIPTION:
URL:https://anandaahmedabad.org/event/morning-meditation-tue-fri-2026-02-26/2028-04-20/
END:VEVENT
BEGIN:VEVENT
DTSTART;TZID=UTC:20280420T064500
DTEND;TZID=UTC:20280420T073000
DTSTAMP:20260424T075341
CREATED:20211201T114604Z
LAST-MODIFIED:20211201T114604Z
UID:5806-1839825900-1839828600@anandaahmedabad.org
SUMMARY:Morning Meditation
DESCRIPTION:
URL:https://anandaahmedabad.org/event/morning-meditation-tue-fri/2028-04-20/
END:VEVENT
BEGIN:VEVENT
DTSTART;TZID=UTC:20280420T184500
DTEND;TZID=UTC:20280420T193000
DTSTAMP:20260424T075341
CREATED:20211201T115547Z
LAST-MODIFIED:20211201T115547Z
UID:5807-1839869100-1839871800@anandaahmedabad.org
SUMMARY:Evening Meditation
DESCRIPTION:We start with Energization Exercises\, followed by chanting and meditation for about 22 minutes.
URL:https://anandaahmedabad.org/event/evening-meditation/2028-04-20/
END:VEVENT
BEGIN:VEVENT
DTSTART;TZID=UTC:20280420T184500
DTEND;TZID=UTC:20280420T193000
DTSTAMP:20260424T075341
CREATED:20211201T115547Z
LAST-MODIFIED:20211201T115547Z
UID:5808-1839869100-1839871800@anandaahmedabad.org
SUMMARY:Evening Meditation
DESCRIPTION:We start with Energization Exercises\, followed by chanting and meditation for about 22 minutes.
URL:https://anandaahmedabad.org/event/evening-meditation/2028-04-20/
END:VEVENT
BEGIN:VEVENT
DTSTART;TZID=UTC:20280421T060000
DTEND;TZID=UTC:20280421T064500
DTSTAMP:20260424T075341
CREATED:20211201T114604Z
LAST-MODIFIED:20211201T114604Z
UID:5811-1839909600-1839912300@anandaahmedabad.org
SUMMARY:Morning Meditation
DESCRIPTION:
URL:https://anandaahmedabad.org/event/morning-meditation-tue-fri-2026-02-26/2028-04-21/
END:VEVENT
BEGIN:VEVENT
DTSTART;TZID=UTC:20280421T064500
DTEND;TZID=UTC:20280421T073000
DTSTAMP:20260424T075341
CREATED:20211201T114604Z
LAST-MODIFIED:20211201T114604Z
UID:5810-1839912300-1839915000@anandaahmedabad.org
SUMMARY:Morning Meditation
DESCRIPTION:
URL:https://anandaahmedabad.org/event/morning-meditation-tue-fri/2028-04-21/
END:VEVENT
BEGIN:VEVENT
DTSTART;TZID=UTC:20280422T190000
DTEND;TZID=UTC:20280422T193000
DTSTAMP:20260424T075341
CREATED:20211201T120953Z
LAST-MODIFIED:20211201T120953Z
UID:5843-1840042800-1840044600@anandaahmedabad.org
SUMMARY:Evening Meditation
DESCRIPTION:We start with a chant followed by meditation of 22 minutes.
URL:https://anandaahmedabad.org/event/evening-meditation-2/2028-04-22/
END:VEVENT
END:VCALENDAR