BEGIN:VCALENDAR
VERSION:2.0
PRODID:-//Ananda Ahmedabad - ECPv6.15.17//NONSGML v1.0//EN
CALSCALE:GREGORIAN
METHOD:PUBLISH
X-ORIGINAL-URL:https://anandaahmedabad.org
X-WR-CALDESC:Events for Ananda Ahmedabad
REFRESH-INTERVAL;VALUE=DURATION:PT1H
X-Robots-Tag:noindex
X-PUBLISHED-TTL:PT1H
BEGIN:VTIMEZONE
TZID:UTC
BEGIN:STANDARD
TZOFFSETFROM:+0000
TZOFFSETTO:+0000
TZNAME:UTC
DTSTART:20260101T000000
END:STANDARD
END:VTIMEZONE
BEGIN:VEVENT
DTSTART;TZID=UTC:20271001T064500
DTEND;TZID=UTC:20271001T073000
DTSTAMP:20260421T194147
CREATED:20211201T114604Z
LAST-MODIFIED:20211201T114604Z
UID:5306-1822373100-1822375800@anandaahmedabad.org
SUMMARY:Morning Meditation
DESCRIPTION:
URL:https://anandaahmedabad.org/event/morning-meditation-tue-fri/2027-10-01/
END:VEVENT
BEGIN:VEVENT
DTSTART;TZID=UTC:20271002T190000
DTEND;TZID=UTC:20271002T193000
DTSTAMP:20260421T194147
CREATED:20211201T120953Z
LAST-MODIFIED:20211201T120953Z
UID:5453-1822503600-1822505400@anandaahmedabad.org
SUMMARY:Evening Meditation
DESCRIPTION:We start with a chant followed by meditation of 22 minutes.
URL:https://anandaahmedabad.org/event/evening-meditation-2/2027-10-02/
END:VEVENT
BEGIN:VEVENT
DTSTART;TZID=UTC:20271005T064500
DTEND;TZID=UTC:20271005T073000
DTSTAMP:20260421T194147
CREATED:20211201T114604Z
LAST-MODIFIED:20211201T114604Z
UID:5307-1822718700-1822721400@anandaahmedabad.org
SUMMARY:Morning Meditation
DESCRIPTION:
URL:https://anandaahmedabad.org/event/morning-meditation-tue-fri/2027-10-05/
END:VEVENT
BEGIN:VEVENT
DTSTART;TZID=UTC:20271006T064500
DTEND;TZID=UTC:20271006T073000
DTSTAMP:20260421T194147
CREATED:20211201T114604Z
LAST-MODIFIED:20211201T114604Z
UID:5308-1822805100-1822807800@anandaahmedabad.org
SUMMARY:Morning Meditation
DESCRIPTION:
URL:https://anandaahmedabad.org/event/morning-meditation-tue-fri/2027-10-06/
END:VEVENT
BEGIN:VEVENT
DTSTART;TZID=UTC:20271007T064500
DTEND;TZID=UTC:20271007T073000
DTSTAMP:20260421T194147
CREATED:20211201T114604Z
LAST-MODIFIED:20211201T114604Z
UID:5309-1822891500-1822894200@anandaahmedabad.org
SUMMARY:Morning Meditation
DESCRIPTION:
URL:https://anandaahmedabad.org/event/morning-meditation-tue-fri/2027-10-07/
END:VEVENT
BEGIN:VEVENT
DTSTART;TZID=UTC:20271007T184500
DTEND;TZID=UTC:20271007T193000
DTSTAMP:20260421T194147
CREATED:20211201T115547Z
LAST-MODIFIED:20211201T115547Z
UID:5398-1822934700-1822937400@anandaahmedabad.org
SUMMARY:Evening Meditation
DESCRIPTION:We start with Energization Exercises\, followed by chanting and meditation for about 22 minutes.
URL:https://anandaahmedabad.org/event/evening-meditation/2027-10-07/
END:VEVENT
BEGIN:VEVENT
DTSTART;TZID=UTC:20271007T184500
DTEND;TZID=UTC:20271007T193000
DTSTAMP:20260421T194147
CREATED:20211201T115547Z
LAST-MODIFIED:20211201T115547Z
UID:5426-1822934700-1822937400@anandaahmedabad.org
SUMMARY:Evening Meditation
DESCRIPTION:We start with Energization Exercises\, followed by chanting and meditation for about 22 minutes.
URL:https://anandaahmedabad.org/event/evening-meditation/2027-10-07/
END:VEVENT
BEGIN:VEVENT
DTSTART;TZID=UTC:20271008T064500
DTEND;TZID=UTC:20271008T073000
DTSTAMP:20260421T194147
CREATED:20211201T114604Z
LAST-MODIFIED:20211201T114604Z
UID:5310-1822977900-1822980600@anandaahmedabad.org
SUMMARY:Morning Meditation
DESCRIPTION:
URL:https://anandaahmedabad.org/event/morning-meditation-tue-fri/2027-10-08/
END:VEVENT
BEGIN:VEVENT
DTSTART;TZID=UTC:20271009T190000
DTEND;TZID=UTC:20271009T193000
DTSTAMP:20260421T194147
CREATED:20211201T120953Z
LAST-MODIFIED:20211201T120953Z
UID:5454-1823108400-1823110200@anandaahmedabad.org
SUMMARY:Evening Meditation
DESCRIPTION:We start with a chant followed by meditation of 22 minutes.
URL:https://anandaahmedabad.org/event/evening-meditation-2/2027-10-09/
END:VEVENT
BEGIN:VEVENT
DTSTART;TZID=UTC:20271012T064500
DTEND;TZID=UTC:20271012T073000
DTSTAMP:20260421T194147
CREATED:20211201T114604Z
LAST-MODIFIED:20211201T114604Z
UID:5311-1823323500-1823326200@anandaahmedabad.org
SUMMARY:Morning Meditation
DESCRIPTION:
URL:https://anandaahmedabad.org/event/morning-meditation-tue-fri/2027-10-12/
END:VEVENT
BEGIN:VEVENT
DTSTART;TZID=UTC:20271013T064500
DTEND;TZID=UTC:20271013T073000
DTSTAMP:20260421T194147
CREATED:20211201T114604Z
LAST-MODIFIED:20211201T114604Z
UID:5312-1823409900-1823412600@anandaahmedabad.org
SUMMARY:Morning Meditation
DESCRIPTION:
URL:https://anandaahmedabad.org/event/morning-meditation-tue-fri/2027-10-13/
END:VEVENT
BEGIN:VEVENT
DTSTART;TZID=UTC:20271014T064500
DTEND;TZID=UTC:20271014T073000
DTSTAMP:20260421T194147
CREATED:20211201T114604Z
LAST-MODIFIED:20211201T114604Z
UID:5313-1823496300-1823499000@anandaahmedabad.org
SUMMARY:Morning Meditation
DESCRIPTION:
URL:https://anandaahmedabad.org/event/morning-meditation-tue-fri/2027-10-14/
END:VEVENT
BEGIN:VEVENT
DTSTART;TZID=UTC:20271014T184500
DTEND;TZID=UTC:20271014T193000
DTSTAMP:20260421T194147
CREATED:20211201T115547Z
LAST-MODIFIED:20211201T115547Z
UID:5399-1823539500-1823542200@anandaahmedabad.org
SUMMARY:Evening Meditation
DESCRIPTION:We start with Energization Exercises\, followed by chanting and meditation for about 22 minutes.
URL:https://anandaahmedabad.org/event/evening-meditation/2027-10-14/
END:VEVENT
BEGIN:VEVENT
DTSTART;TZID=UTC:20271014T184500
DTEND;TZID=UTC:20271014T193000
DTSTAMP:20260421T194147
CREATED:20211201T115547Z
LAST-MODIFIED:20211201T115547Z
UID:5427-1823539500-1823542200@anandaahmedabad.org
SUMMARY:Evening Meditation
DESCRIPTION:We start with Energization Exercises\, followed by chanting and meditation for about 22 minutes.
URL:https://anandaahmedabad.org/event/evening-meditation/2027-10-14/
END:VEVENT
BEGIN:VEVENT
DTSTART;TZID=UTC:20271015T064500
DTEND;TZID=UTC:20271015T073000
DTSTAMP:20260421T194147
CREATED:20211201T114604Z
LAST-MODIFIED:20211201T114604Z
UID:5314-1823582700-1823585400@anandaahmedabad.org
SUMMARY:Morning Meditation
DESCRIPTION:
URL:https://anandaahmedabad.org/event/morning-meditation-tue-fri/2027-10-15/
END:VEVENT
BEGIN:VEVENT
DTSTART;TZID=UTC:20271016T190000
DTEND;TZID=UTC:20271016T193000
DTSTAMP:20260421T194147
CREATED:20211201T120953Z
LAST-MODIFIED:20211201T120953Z
UID:5455-1823713200-1823715000@anandaahmedabad.org
SUMMARY:Evening Meditation
DESCRIPTION:We start with a chant followed by meditation of 22 minutes.
URL:https://anandaahmedabad.org/event/evening-meditation-2/2027-10-16/
END:VEVENT
BEGIN:VEVENT
DTSTART;TZID=UTC:20271019T064500
DTEND;TZID=UTC:20271019T073000
DTSTAMP:20260421T194147
CREATED:20211201T114604Z
LAST-MODIFIED:20211201T114604Z
UID:5315-1823928300-1823931000@anandaahmedabad.org
SUMMARY:Morning Meditation
DESCRIPTION:
URL:https://anandaahmedabad.org/event/morning-meditation-tue-fri/2027-10-19/
END:VEVENT
BEGIN:VEVENT
DTSTART;TZID=UTC:20271020T064500
DTEND;TZID=UTC:20271020T073000
DTSTAMP:20260421T194147
CREATED:20211201T114604Z
LAST-MODIFIED:20211201T114604Z
UID:5316-1824014700-1824017400@anandaahmedabad.org
SUMMARY:Morning Meditation
DESCRIPTION:
URL:https://anandaahmedabad.org/event/morning-meditation-tue-fri/2027-10-20/
END:VEVENT
BEGIN:VEVENT
DTSTART;TZID=UTC:20271021T064500
DTEND;TZID=UTC:20271021T073000
DTSTAMP:20260421T194147
CREATED:20211201T114604Z
LAST-MODIFIED:20211201T114604Z
UID:5317-1824101100-1824103800@anandaahmedabad.org
SUMMARY:Morning Meditation
DESCRIPTION:
URL:https://anandaahmedabad.org/event/morning-meditation-tue-fri/2027-10-21/
END:VEVENT
BEGIN:VEVENT
DTSTART;TZID=UTC:20271021T184500
DTEND;TZID=UTC:20271021T193000
DTSTAMP:20260421T194147
CREATED:20211201T115547Z
LAST-MODIFIED:20211201T115547Z
UID:5428-1824144300-1824147000@anandaahmedabad.org
SUMMARY:Evening Meditation
DESCRIPTION:We start with Energization Exercises\, followed by chanting and meditation for about 22 minutes.
URL:https://anandaahmedabad.org/event/evening-meditation/2027-10-21/
END:VEVENT
BEGIN:VEVENT
DTSTART;TZID=UTC:20271021T184500
DTEND;TZID=UTC:20271021T193000
DTSTAMP:20260421T194147
CREATED:20211201T115547Z
LAST-MODIFIED:20211201T115547Z
UID:5400-1824144300-1824147000@anandaahmedabad.org
SUMMARY:Evening Meditation
DESCRIPTION:We start with Energization Exercises\, followed by chanting and meditation for about 22 minutes.
URL:https://anandaahmedabad.org/event/evening-meditation/2027-10-21/
END:VEVENT
BEGIN:VEVENT
DTSTART;TZID=UTC:20271022T064500
DTEND;TZID=UTC:20271022T073000
DTSTAMP:20260421T194147
CREATED:20211201T114604Z
LAST-MODIFIED:20211201T114604Z
UID:5318-1824187500-1824190200@anandaahmedabad.org
SUMMARY:Morning Meditation
DESCRIPTION:
URL:https://anandaahmedabad.org/event/morning-meditation-tue-fri/2027-10-22/
END:VEVENT
BEGIN:VEVENT
DTSTART;TZID=UTC:20271023T190000
DTEND;TZID=UTC:20271023T193000
DTSTAMP:20260421T194147
CREATED:20211201T120953Z
LAST-MODIFIED:20211201T120953Z
UID:5456-1824318000-1824319800@anandaahmedabad.org
SUMMARY:Evening Meditation
DESCRIPTION:We start with a chant followed by meditation of 22 minutes.
URL:https://anandaahmedabad.org/event/evening-meditation-2/2027-10-23/
END:VEVENT
BEGIN:VEVENT
DTSTART;TZID=UTC:20271026T064500
DTEND;TZID=UTC:20271026T073000
DTSTAMP:20260421T194147
CREATED:20211201T114604Z
LAST-MODIFIED:20211201T114604Z
UID:5319-1824533100-1824535800@anandaahmedabad.org
SUMMARY:Morning Meditation
DESCRIPTION:
URL:https://anandaahmedabad.org/event/morning-meditation-tue-fri/2027-10-26/
END:VEVENT
BEGIN:VEVENT
DTSTART;TZID=UTC:20271027T064500
DTEND;TZID=UTC:20271027T073000
DTSTAMP:20260421T194147
CREATED:20211201T114604Z
LAST-MODIFIED:20211201T114604Z
UID:5320-1824619500-1824622200@anandaahmedabad.org
SUMMARY:Morning Meditation
DESCRIPTION:
URL:https://anandaahmedabad.org/event/morning-meditation-tue-fri/2027-10-27/
END:VEVENT
BEGIN:VEVENT
DTSTART;TZID=UTC:20271028T064500
DTEND;TZID=UTC:20271028T073000
DTSTAMP:20260421T194147
CREATED:20211201T114604Z
LAST-MODIFIED:20211201T114604Z
UID:5321-1824705900-1824708600@anandaahmedabad.org
SUMMARY:Morning Meditation
DESCRIPTION:
URL:https://anandaahmedabad.org/event/morning-meditation-tue-fri/2027-10-28/
END:VEVENT
BEGIN:VEVENT
DTSTART;TZID=UTC:20271028T184500
DTEND;TZID=UTC:20271028T193000
DTSTAMP:20260421T194147
CREATED:20211201T115547Z
LAST-MODIFIED:20211201T115547Z
UID:5429-1824749100-1824751800@anandaahmedabad.org
SUMMARY:Evening Meditation
DESCRIPTION:We start with Energization Exercises\, followed by chanting and meditation for about 22 minutes.
URL:https://anandaahmedabad.org/event/evening-meditation/2027-10-28/
END:VEVENT
BEGIN:VEVENT
DTSTART;TZID=UTC:20271028T184500
DTEND;TZID=UTC:20271028T193000
DTSTAMP:20260421T194147
CREATED:20211201T115547Z
LAST-MODIFIED:20211201T115547Z
UID:5401-1824749100-1824751800@anandaahmedabad.org
SUMMARY:Evening Meditation
DESCRIPTION:We start with Energization Exercises\, followed by chanting and meditation for about 22 minutes.
URL:https://anandaahmedabad.org/event/evening-meditation/2027-10-28/
END:VEVENT
BEGIN:VEVENT
DTSTART;TZID=UTC:20271029T064500
DTEND;TZID=UTC:20271029T073000
DTSTAMP:20260421T194147
CREATED:20211201T114604Z
LAST-MODIFIED:20211201T114604Z
UID:5322-1824792300-1824795000@anandaahmedabad.org
SUMMARY:Morning Meditation
DESCRIPTION:
URL:https://anandaahmedabad.org/event/morning-meditation-tue-fri/2027-10-29/
END:VEVENT
BEGIN:VEVENT
DTSTART;TZID=UTC:20271030T190000
DTEND;TZID=UTC:20271030T193000
DTSTAMP:20260421T194147
CREATED:20211201T120953Z
LAST-MODIFIED:20211201T120953Z
UID:5457-1824922800-1824924600@anandaahmedabad.org
SUMMARY:Evening Meditation
DESCRIPTION:We start with a chant followed by meditation of 22 minutes.
URL:https://anandaahmedabad.org/event/evening-meditation-2/2027-10-30/
END:VEVENT
END:VCALENDAR