BEGIN:VCALENDAR
VERSION:2.0
PRODID:-//Ananda Ahmedabad - ECPv6.15.17//NONSGML v1.0//EN
CALSCALE:GREGORIAN
METHOD:PUBLISH
X-WR-CALNAME:Ananda Ahmedabad
X-ORIGINAL-URL:https://anandaahmedabad.org
X-WR-CALDESC:Events for Ananda Ahmedabad
REFRESH-INTERVAL;VALUE=DURATION:PT1H
X-Robots-Tag:noindex
X-PUBLISHED-TTL:PT1H
BEGIN:VTIMEZONE
TZID:UTC
BEGIN:STANDARD
TZOFFSETFROM:+0000
TZOFFSETTO:+0000
TZNAME:UTC
DTSTART:20270101T000000
END:STANDARD
END:VTIMEZONE
BEGIN:VEVENT
DTSTART;TZID=UTC:20280127T184500
DTEND;TZID=UTC:20280127T193000
DTSTAMP:20260423T173517
CREATED:20211201T115547Z
LAST-MODIFIED:20211201T115547Z
UID:5442-1832611500-1832614200@anandaahmedabad.org
SUMMARY:Evening Meditation
DESCRIPTION:We start with Energization Exercises\, followed by chanting and meditation for about 22 minutes.
URL:https://anandaahmedabad.org/event/evening-meditation/2028-01-27/
END:VEVENT
BEGIN:VEVENT
DTSTART;TZID=UTC:20280127T184500
DTEND;TZID=UTC:20280127T193000
DTSTAMP:20260423T173517
CREATED:20211201T115547Z
LAST-MODIFIED:20211201T115547Z
UID:5414-1832611500-1832614200@anandaahmedabad.org
SUMMARY:Evening Meditation
DESCRIPTION:We start with Energization Exercises\, followed by chanting and meditation for about 22 minutes.
URL:https://anandaahmedabad.org/event/evening-meditation/2028-01-27/
END:VEVENT
BEGIN:VEVENT
DTSTART;TZID=UTC:20280128T064500
DTEND;TZID=UTC:20280128T073000
DTSTAMP:20260423T173517
CREATED:20211201T114604Z
LAST-MODIFIED:20211201T114604Z
UID:5374-1832654700-1832657400@anandaahmedabad.org
SUMMARY:Morning Meditation
DESCRIPTION:
URL:https://anandaahmedabad.org/event/morning-meditation-tue-fri/2028-01-28/
END:VEVENT
BEGIN:VEVENT
DTSTART;TZID=UTC:20280129T190000
DTEND;TZID=UTC:20280129T193000
DTSTAMP:20260423T173517
CREATED:20211201T120953Z
LAST-MODIFIED:20211201T120953Z
UID:5470-1832785200-1832787000@anandaahmedabad.org
SUMMARY:Evening Meditation
DESCRIPTION:We start with a chant followed by meditation of 22 minutes.
URL:https://anandaahmedabad.org/event/evening-meditation-2/2028-01-29/
END:VEVENT
BEGIN:VEVENT
DTSTART;TZID=UTC:20280201T064500
DTEND;TZID=UTC:20280201T073000
DTSTAMP:20260423T173517
CREATED:20211201T114604Z
LAST-MODIFIED:20211201T114604Z
UID:5375-1833000300-1833003000@anandaahmedabad.org
SUMMARY:Morning Meditation
DESCRIPTION:
URL:https://anandaahmedabad.org/event/morning-meditation-tue-fri/2028-02-01/
END:VEVENT
BEGIN:VEVENT
DTSTART;TZID=UTC:20280202T064500
DTEND;TZID=UTC:20280202T073000
DTSTAMP:20260423T173517
CREATED:20211201T114604Z
LAST-MODIFIED:20211201T114604Z
UID:5376-1833086700-1833089400@anandaahmedabad.org
SUMMARY:Morning Meditation
DESCRIPTION:
URL:https://anandaahmedabad.org/event/morning-meditation-tue-fri/2028-02-02/
END:VEVENT
BEGIN:VEVENT
DTSTART;TZID=UTC:20280203T064500
DTEND;TZID=UTC:20280203T073000
DTSTAMP:20260423T173517
CREATED:20211201T114604Z
LAST-MODIFIED:20211201T114604Z
UID:5377-1833173100-1833175800@anandaahmedabad.org
SUMMARY:Morning Meditation
DESCRIPTION:
URL:https://anandaahmedabad.org/event/morning-meditation-tue-fri/2028-02-03/
END:VEVENT
BEGIN:VEVENT
DTSTART;TZID=UTC:20280203T184500
DTEND;TZID=UTC:20280203T193000
DTSTAMP:20260423T173517
CREATED:20211201T115547Z
LAST-MODIFIED:20211201T115547Z
UID:5443-1833216300-1833219000@anandaahmedabad.org
SUMMARY:Evening Meditation
DESCRIPTION:We start with Energization Exercises\, followed by chanting and meditation for about 22 minutes.
URL:https://anandaahmedabad.org/event/evening-meditation/2028-02-03/
END:VEVENT
BEGIN:VEVENT
DTSTART;TZID=UTC:20280203T184500
DTEND;TZID=UTC:20280203T193000
DTSTAMP:20260423T173517
CREATED:20211201T115547Z
LAST-MODIFIED:20211201T115547Z
UID:5415-1833216300-1833219000@anandaahmedabad.org
SUMMARY:Evening Meditation
DESCRIPTION:We start with Energization Exercises\, followed by chanting and meditation for about 22 minutes.
URL:https://anandaahmedabad.org/event/evening-meditation/2028-02-03/
END:VEVENT
BEGIN:VEVENT
DTSTART;TZID=UTC:20280204T064500
DTEND;TZID=UTC:20280204T073000
DTSTAMP:20260423T173517
CREATED:20211201T114604Z
LAST-MODIFIED:20211201T114604Z
UID:5378-1833259500-1833262200@anandaahmedabad.org
SUMMARY:Morning Meditation
DESCRIPTION:
URL:https://anandaahmedabad.org/event/morning-meditation-tue-fri/2028-02-04/
END:VEVENT
BEGIN:VEVENT
DTSTART;TZID=UTC:20280205T190000
DTEND;TZID=UTC:20280205T193000
DTSTAMP:20260423T173517
CREATED:20211201T120953Z
LAST-MODIFIED:20211201T120953Z
UID:5471-1833390000-1833391800@anandaahmedabad.org
SUMMARY:Evening Meditation
DESCRIPTION:We start with a chant followed by meditation of 22 minutes.
URL:https://anandaahmedabad.org/event/evening-meditation-2/2028-02-05/
END:VEVENT
BEGIN:VEVENT
DTSTART;TZID=UTC:20280208T064500
DTEND;TZID=UTC:20280208T073000
DTSTAMP:20260423T173517
CREATED:20211201T114604Z
LAST-MODIFIED:20211201T114604Z
UID:5379-1833605100-1833607800@anandaahmedabad.org
SUMMARY:Morning Meditation
DESCRIPTION:
URL:https://anandaahmedabad.org/event/morning-meditation-tue-fri/2028-02-08/
END:VEVENT
BEGIN:VEVENT
DTSTART;TZID=UTC:20280209T064500
DTEND;TZID=UTC:20280209T073000
DTSTAMP:20260423T173517
CREATED:20211201T114604Z
LAST-MODIFIED:20211201T114604Z
UID:5380-1833691500-1833694200@anandaahmedabad.org
SUMMARY:Morning Meditation
DESCRIPTION:
URL:https://anandaahmedabad.org/event/morning-meditation-tue-fri/2028-02-09/
END:VEVENT
BEGIN:VEVENT
DTSTART;TZID=UTC:20280210T064500
DTEND;TZID=UTC:20280210T073000
DTSTAMP:20260423T173517
CREATED:20211201T114604Z
LAST-MODIFIED:20211201T114604Z
UID:5381-1833777900-1833780600@anandaahmedabad.org
SUMMARY:Morning Meditation
DESCRIPTION:
URL:https://anandaahmedabad.org/event/morning-meditation-tue-fri/2028-02-10/
END:VEVENT
BEGIN:VEVENT
DTSTART;TZID=UTC:20280210T184500
DTEND;TZID=UTC:20280210T193000
DTSTAMP:20260423T173517
CREATED:20211201T115547Z
LAST-MODIFIED:20211201T115547Z
UID:5444-1833821100-1833823800@anandaahmedabad.org
SUMMARY:Evening Meditation
DESCRIPTION:We start with Energization Exercises\, followed by chanting and meditation for about 22 minutes.
URL:https://anandaahmedabad.org/event/evening-meditation/2028-02-10/
END:VEVENT
BEGIN:VEVENT
DTSTART;TZID=UTC:20280210T184500
DTEND;TZID=UTC:20280210T193000
DTSTAMP:20260423T173517
CREATED:20211201T115547Z
LAST-MODIFIED:20211201T115547Z
UID:5416-1833821100-1833823800@anandaahmedabad.org
SUMMARY:Evening Meditation
DESCRIPTION:We start with Energization Exercises\, followed by chanting and meditation for about 22 minutes.
URL:https://anandaahmedabad.org/event/evening-meditation/2028-02-10/
END:VEVENT
BEGIN:VEVENT
DTSTART;TZID=UTC:20280211T064500
DTEND;TZID=UTC:20280211T073000
DTSTAMP:20260423T173517
CREATED:20211201T114604Z
LAST-MODIFIED:20211201T114604Z
UID:5382-1833864300-1833867000@anandaahmedabad.org
SUMMARY:Morning Meditation
DESCRIPTION:
URL:https://anandaahmedabad.org/event/morning-meditation-tue-fri/2028-02-11/
END:VEVENT
BEGIN:VEVENT
DTSTART;TZID=UTC:20280212T190000
DTEND;TZID=UTC:20280212T193000
DTSTAMP:20260423T173517
CREATED:20211201T120953Z
LAST-MODIFIED:20211201T120953Z
UID:5472-1833994800-1833996600@anandaahmedabad.org
SUMMARY:Evening Meditation
DESCRIPTION:We start with a chant followed by meditation of 22 minutes.
URL:https://anandaahmedabad.org/event/evening-meditation-2/2028-02-12/
END:VEVENT
BEGIN:VEVENT
DTSTART;TZID=UTC:20280215T064500
DTEND;TZID=UTC:20280215T073000
DTSTAMP:20260423T173517
CREATED:20211201T114604Z
LAST-MODIFIED:20211201T114604Z
UID:5383-1834209900-1834212600@anandaahmedabad.org
SUMMARY:Morning Meditation
DESCRIPTION:
URL:https://anandaahmedabad.org/event/morning-meditation-tue-fri/2028-02-15/
END:VEVENT
BEGIN:VEVENT
DTSTART;TZID=UTC:20280216T064500
DTEND;TZID=UTC:20280216T073000
DTSTAMP:20260423T173517
CREATED:20211201T114604Z
LAST-MODIFIED:20211201T114604Z
UID:5384-1834296300-1834299000@anandaahmedabad.org
SUMMARY:Morning Meditation
DESCRIPTION:
URL:https://anandaahmedabad.org/event/morning-meditation-tue-fri/2028-02-16/
END:VEVENT
BEGIN:VEVENT
DTSTART;TZID=UTC:20280217T064500
DTEND;TZID=UTC:20280217T073000
DTSTAMP:20260423T173517
CREATED:20211201T114604Z
LAST-MODIFIED:20211201T114604Z
UID:5385-1834382700-1834385400@anandaahmedabad.org
SUMMARY:Morning Meditation
DESCRIPTION:
URL:https://anandaahmedabad.org/event/morning-meditation-tue-fri/2028-02-17/
END:VEVENT
BEGIN:VEVENT
DTSTART;TZID=UTC:20280217T184500
DTEND;TZID=UTC:20280217T193000
DTSTAMP:20260423T173517
CREATED:20211201T115547Z
LAST-MODIFIED:20211201T115547Z
UID:5417-1834425900-1834428600@anandaahmedabad.org
SUMMARY:Evening Meditation
DESCRIPTION:We start with Energization Exercises\, followed by chanting and meditation for about 22 minutes.
URL:https://anandaahmedabad.org/event/evening-meditation/2028-02-17/
END:VEVENT
BEGIN:VEVENT
DTSTART;TZID=UTC:20280217T184500
DTEND;TZID=UTC:20280217T193000
DTSTAMP:20260423T173517
CREATED:20211201T115547Z
LAST-MODIFIED:20211201T115547Z
UID:5445-1834425900-1834428600@anandaahmedabad.org
SUMMARY:Evening Meditation
DESCRIPTION:We start with Energization Exercises\, followed by chanting and meditation for about 22 minutes.
URL:https://anandaahmedabad.org/event/evening-meditation/2028-02-17/
END:VEVENT
BEGIN:VEVENT
DTSTART;TZID=UTC:20280218T064500
DTEND;TZID=UTC:20280218T073000
DTSTAMP:20260423T173517
CREATED:20211201T114604Z
LAST-MODIFIED:20211201T114604Z
UID:5386-1834469100-1834471800@anandaahmedabad.org
SUMMARY:Morning Meditation
DESCRIPTION:
URL:https://anandaahmedabad.org/event/morning-meditation-tue-fri/2028-02-18/
END:VEVENT
BEGIN:VEVENT
DTSTART;TZID=UTC:20280219T190000
DTEND;TZID=UTC:20280219T193000
DTSTAMP:20260423T173517
CREATED:20211201T120953Z
LAST-MODIFIED:20211201T120953Z
UID:5473-1834599600-1834601400@anandaahmedabad.org
SUMMARY:Evening Meditation
DESCRIPTION:We start with a chant followed by meditation of 22 minutes.
URL:https://anandaahmedabad.org/event/evening-meditation-2/2028-02-19/
END:VEVENT
BEGIN:VEVENT
DTSTART;TZID=UTC:20280222T064500
DTEND;TZID=UTC:20280222T073000
DTSTAMP:20260423T173517
CREATED:20211201T114604Z
LAST-MODIFIED:20211201T114604Z
UID:5387-1834814700-1834817400@anandaahmedabad.org
SUMMARY:Morning Meditation
DESCRIPTION:
URL:https://anandaahmedabad.org/event/morning-meditation-tue-fri/2028-02-22/
END:VEVENT
BEGIN:VEVENT
DTSTART;TZID=UTC:20280223T064500
DTEND;TZID=UTC:20280223T073000
DTSTAMP:20260423T173517
CREATED:20211201T114604Z
LAST-MODIFIED:20211201T114604Z
UID:5388-1834901100-1834903800@anandaahmedabad.org
SUMMARY:Morning Meditation
DESCRIPTION:
URL:https://anandaahmedabad.org/event/morning-meditation-tue-fri/2028-02-23/
END:VEVENT
BEGIN:VEVENT
DTSTART;TZID=UTC:20280224T064500
DTEND;TZID=UTC:20280224T073000
DTSTAMP:20260423T173517
CREATED:20211201T114604Z
LAST-MODIFIED:20211201T114604Z
UID:5389-1834987500-1834990200@anandaahmedabad.org
SUMMARY:Morning Meditation
DESCRIPTION:
URL:https://anandaahmedabad.org/event/morning-meditation-tue-fri/2028-02-24/
END:VEVENT
BEGIN:VEVENT
DTSTART;TZID=UTC:20280224T184500
DTEND;TZID=UTC:20280224T193000
DTSTAMP:20260423T173517
CREATED:20211201T115547Z
LAST-MODIFIED:20211201T115547Z
UID:5418-1835030700-1835033400@anandaahmedabad.org
SUMMARY:Evening Meditation
DESCRIPTION:We start with Energization Exercises\, followed by chanting and meditation for about 22 minutes.
URL:https://anandaahmedabad.org/event/evening-meditation/2028-02-24/
END:VEVENT
BEGIN:VEVENT
DTSTART;TZID=UTC:20280224T184500
DTEND;TZID=UTC:20280224T193000
DTSTAMP:20260423T173517
CREATED:20211201T115547Z
LAST-MODIFIED:20211201T115547Z
UID:5446-1835030700-1835033400@anandaahmedabad.org
SUMMARY:Evening Meditation
DESCRIPTION:We start with Energization Exercises\, followed by chanting and meditation for about 22 minutes.
URL:https://anandaahmedabad.org/event/evening-meditation/2028-02-24/
END:VEVENT
END:VCALENDAR