BEGIN:VCALENDAR
VERSION:2.0
PRODID:-//Ananda Ahmedabad - ECPv6.15.17//NONSGML v1.0//EN
CALSCALE:GREGORIAN
METHOD:PUBLISH
X-ORIGINAL-URL:https://anandaahmedabad.org
X-WR-CALDESC:Events for Ananda Ahmedabad
REFRESH-INTERVAL;VALUE=DURATION:PT1H
X-Robots-Tag:noindex
X-PUBLISHED-TTL:PT1H
BEGIN:VTIMEZONE
TZID:UTC
BEGIN:STANDARD
TZOFFSETFROM:+0000
TZOFFSETTO:+0000
TZNAME:UTC
DTSTART:20260101T000000
END:STANDARD
END:VTIMEZONE
BEGIN:VEVENT
DTSTART;TZID=UTC:20270831T064500
DTEND;TZID=UTC:20270831T073000
DTSTAMP:20260421T030959
CREATED:20211201T114604Z
LAST-MODIFIED:20211201T114604Z
UID:5287-1819694700-1819697400@anandaahmedabad.org
SUMMARY:Morning Meditation
DESCRIPTION:
URL:https://anandaahmedabad.org/event/morning-meditation-tue-fri/2027-08-31/
END:VEVENT
BEGIN:VEVENT
DTSTART;TZID=UTC:20270901T064500
DTEND;TZID=UTC:20270901T073000
DTSTAMP:20260421T030959
CREATED:20211201T114604Z
LAST-MODIFIED:20211201T114604Z
UID:5288-1819781100-1819783800@anandaahmedabad.org
SUMMARY:Morning Meditation
DESCRIPTION:
URL:https://anandaahmedabad.org/event/morning-meditation-tue-fri/2027-09-01/
END:VEVENT
BEGIN:VEVENT
DTSTART;TZID=UTC:20270902T064500
DTEND;TZID=UTC:20270902T073000
DTSTAMP:20260421T030959
CREATED:20211201T114604Z
LAST-MODIFIED:20211201T114604Z
UID:5289-1819867500-1819870200@anandaahmedabad.org
SUMMARY:Morning Meditation
DESCRIPTION:
URL:https://anandaahmedabad.org/event/morning-meditation-tue-fri/2027-09-02/
END:VEVENT
BEGIN:VEVENT
DTSTART;TZID=UTC:20270902T184500
DTEND;TZID=UTC:20270902T193000
DTSTAMP:20260421T030959
CREATED:20211201T115547Z
LAST-MODIFIED:20211201T115547Z
UID:5421-1819910700-1819913400@anandaahmedabad.org
SUMMARY:Evening Meditation
DESCRIPTION:We start with Energization Exercises\, followed by chanting and meditation for about 22 minutes.
URL:https://anandaahmedabad.org/event/evening-meditation/2027-09-02/
END:VEVENT
BEGIN:VEVENT
DTSTART;TZID=UTC:20270902T184500
DTEND;TZID=UTC:20270902T193000
DTSTAMP:20260421T030959
CREATED:20211201T115547Z
LAST-MODIFIED:20211201T115547Z
UID:5393-1819910700-1819913400@anandaahmedabad.org
SUMMARY:Evening Meditation
DESCRIPTION:We start with Energization Exercises\, followed by chanting and meditation for about 22 minutes.
URL:https://anandaahmedabad.org/event/evening-meditation/2027-09-02/
END:VEVENT
BEGIN:VEVENT
DTSTART;TZID=UTC:20270903T064500
DTEND;TZID=UTC:20270903T073000
DTSTAMP:20260421T030959
CREATED:20211201T114604Z
LAST-MODIFIED:20211201T114604Z
UID:5290-1819953900-1819956600@anandaahmedabad.org
SUMMARY:Morning Meditation
DESCRIPTION:
URL:https://anandaahmedabad.org/event/morning-meditation-tue-fri/2027-09-03/
END:VEVENT
BEGIN:VEVENT
DTSTART;TZID=UTC:20270904T190000
DTEND;TZID=UTC:20270904T193000
DTSTAMP:20260421T030959
CREATED:20211201T120953Z
LAST-MODIFIED:20211201T120953Z
UID:5449-1820084400-1820086200@anandaahmedabad.org
SUMMARY:Evening Meditation
DESCRIPTION:We start with a chant followed by meditation of 22 minutes.
URL:https://anandaahmedabad.org/event/evening-meditation-2/2027-09-04/
END:VEVENT
BEGIN:VEVENT
DTSTART;TZID=UTC:20270907T064500
DTEND;TZID=UTC:20270907T073000
DTSTAMP:20260421T030959
CREATED:20211201T114604Z
LAST-MODIFIED:20211201T114604Z
UID:5291-1820299500-1820302200@anandaahmedabad.org
SUMMARY:Morning Meditation
DESCRIPTION:
URL:https://anandaahmedabad.org/event/morning-meditation-tue-fri/2027-09-07/
END:VEVENT
BEGIN:VEVENT
DTSTART;TZID=UTC:20270908T064500
DTEND;TZID=UTC:20270908T073000
DTSTAMP:20260421T030959
CREATED:20211201T114604Z
LAST-MODIFIED:20211201T114604Z
UID:5292-1820385900-1820388600@anandaahmedabad.org
SUMMARY:Morning Meditation
DESCRIPTION:
URL:https://anandaahmedabad.org/event/morning-meditation-tue-fri/2027-09-08/
END:VEVENT
BEGIN:VEVENT
DTSTART;TZID=UTC:20270909T064500
DTEND;TZID=UTC:20270909T073000
DTSTAMP:20260421T030959
CREATED:20211201T114604Z
LAST-MODIFIED:20211201T114604Z
UID:5293-1820472300-1820475000@anandaahmedabad.org
SUMMARY:Morning Meditation
DESCRIPTION:
URL:https://anandaahmedabad.org/event/morning-meditation-tue-fri/2027-09-09/
END:VEVENT
BEGIN:VEVENT
DTSTART;TZID=UTC:20270909T184500
DTEND;TZID=UTC:20270909T193000
DTSTAMP:20260421T030959
CREATED:20211201T115547Z
LAST-MODIFIED:20211201T115547Z
UID:5422-1820515500-1820518200@anandaahmedabad.org
SUMMARY:Evening Meditation
DESCRIPTION:We start with Energization Exercises\, followed by chanting and meditation for about 22 minutes.
URL:https://anandaahmedabad.org/event/evening-meditation/2027-09-09/
END:VEVENT
BEGIN:VEVENT
DTSTART;TZID=UTC:20270909T184500
DTEND;TZID=UTC:20270909T193000
DTSTAMP:20260421T030959
CREATED:20211201T115547Z
LAST-MODIFIED:20211201T115547Z
UID:5394-1820515500-1820518200@anandaahmedabad.org
SUMMARY:Evening Meditation
DESCRIPTION:We start with Energization Exercises\, followed by chanting and meditation for about 22 minutes.
URL:https://anandaahmedabad.org/event/evening-meditation/2027-09-09/
END:VEVENT
BEGIN:VEVENT
DTSTART;TZID=UTC:20270910T064500
DTEND;TZID=UTC:20270910T073000
DTSTAMP:20260421T030959
CREATED:20211201T114604Z
LAST-MODIFIED:20211201T114604Z
UID:5294-1820558700-1820561400@anandaahmedabad.org
SUMMARY:Morning Meditation
DESCRIPTION:
URL:https://anandaahmedabad.org/event/morning-meditation-tue-fri/2027-09-10/
END:VEVENT
BEGIN:VEVENT
DTSTART;TZID=UTC:20270911T190000
DTEND;TZID=UTC:20270911T193000
DTSTAMP:20260421T030959
CREATED:20211201T120953Z
LAST-MODIFIED:20211201T120953Z
UID:5450-1820689200-1820691000@anandaahmedabad.org
SUMMARY:Evening Meditation
DESCRIPTION:We start with a chant followed by meditation of 22 minutes.
URL:https://anandaahmedabad.org/event/evening-meditation-2/2027-09-11/
END:VEVENT
BEGIN:VEVENT
DTSTART;TZID=UTC:20270914T064500
DTEND;TZID=UTC:20270914T073000
DTSTAMP:20260421T030959
CREATED:20211201T114604Z
LAST-MODIFIED:20211201T114604Z
UID:5295-1820904300-1820907000@anandaahmedabad.org
SUMMARY:Morning Meditation
DESCRIPTION:
URL:https://anandaahmedabad.org/event/morning-meditation-tue-fri/2027-09-14/
END:VEVENT
BEGIN:VEVENT
DTSTART;TZID=UTC:20270915T064500
DTEND;TZID=UTC:20270915T073000
DTSTAMP:20260421T030959
CREATED:20211201T114604Z
LAST-MODIFIED:20211201T114604Z
UID:5296-1820990700-1820993400@anandaahmedabad.org
SUMMARY:Morning Meditation
DESCRIPTION:
URL:https://anandaahmedabad.org/event/morning-meditation-tue-fri/2027-09-15/
END:VEVENT
BEGIN:VEVENT
DTSTART;TZID=UTC:20270916T064500
DTEND;TZID=UTC:20270916T073000
DTSTAMP:20260421T030959
CREATED:20211201T114604Z
LAST-MODIFIED:20211201T114604Z
UID:5297-1821077100-1821079800@anandaahmedabad.org
SUMMARY:Morning Meditation
DESCRIPTION:
URL:https://anandaahmedabad.org/event/morning-meditation-tue-fri/2027-09-16/
END:VEVENT
BEGIN:VEVENT
DTSTART;TZID=UTC:20270916T184500
DTEND;TZID=UTC:20270916T193000
DTSTAMP:20260421T030959
CREATED:20211201T115547Z
LAST-MODIFIED:20211201T115547Z
UID:5423-1821120300-1821123000@anandaahmedabad.org
SUMMARY:Evening Meditation
DESCRIPTION:We start with Energization Exercises\, followed by chanting and meditation for about 22 minutes.
URL:https://anandaahmedabad.org/event/evening-meditation/2027-09-16/
END:VEVENT
BEGIN:VEVENT
DTSTART;TZID=UTC:20270916T184500
DTEND;TZID=UTC:20270916T193000
DTSTAMP:20260421T030959
CREATED:20211201T115547Z
LAST-MODIFIED:20211201T115547Z
UID:5395-1821120300-1821123000@anandaahmedabad.org
SUMMARY:Evening Meditation
DESCRIPTION:We start with Energization Exercises\, followed by chanting and meditation for about 22 minutes.
URL:https://anandaahmedabad.org/event/evening-meditation/2027-09-16/
END:VEVENT
BEGIN:VEVENT
DTSTART;TZID=UTC:20270917T064500
DTEND;TZID=UTC:20270917T073000
DTSTAMP:20260421T030959
CREATED:20211201T114604Z
LAST-MODIFIED:20211201T114604Z
UID:5298-1821163500-1821166200@anandaahmedabad.org
SUMMARY:Morning Meditation
DESCRIPTION:
URL:https://anandaahmedabad.org/event/morning-meditation-tue-fri/2027-09-17/
END:VEVENT
BEGIN:VEVENT
DTSTART;TZID=UTC:20270918T190000
DTEND;TZID=UTC:20270918T193000
DTSTAMP:20260421T030959
CREATED:20211201T120953Z
LAST-MODIFIED:20211201T120953Z
UID:5451-1821294000-1821295800@anandaahmedabad.org
SUMMARY:Evening Meditation
DESCRIPTION:We start with a chant followed by meditation of 22 minutes.
URL:https://anandaahmedabad.org/event/evening-meditation-2/2027-09-18/
END:VEVENT
BEGIN:VEVENT
DTSTART;TZID=UTC:20270921T064500
DTEND;TZID=UTC:20270921T073000
DTSTAMP:20260421T030959
CREATED:20211201T114604Z
LAST-MODIFIED:20211201T114604Z
UID:5299-1821509100-1821511800@anandaahmedabad.org
SUMMARY:Morning Meditation
DESCRIPTION:
URL:https://anandaahmedabad.org/event/morning-meditation-tue-fri/2027-09-21/
END:VEVENT
BEGIN:VEVENT
DTSTART;TZID=UTC:20270922T064500
DTEND;TZID=UTC:20270922T073000
DTSTAMP:20260421T030959
CREATED:20211201T114604Z
LAST-MODIFIED:20211201T114604Z
UID:5300-1821595500-1821598200@anandaahmedabad.org
SUMMARY:Morning Meditation
DESCRIPTION:
URL:https://anandaahmedabad.org/event/morning-meditation-tue-fri/2027-09-22/
END:VEVENT
BEGIN:VEVENT
DTSTART;TZID=UTC:20270923T064500
DTEND;TZID=UTC:20270923T073000
DTSTAMP:20260421T030959
CREATED:20211201T114604Z
LAST-MODIFIED:20211201T114604Z
UID:5301-1821681900-1821684600@anandaahmedabad.org
SUMMARY:Morning Meditation
DESCRIPTION:
URL:https://anandaahmedabad.org/event/morning-meditation-tue-fri/2027-09-23/
END:VEVENT
BEGIN:VEVENT
DTSTART;TZID=UTC:20270923T184500
DTEND;TZID=UTC:20270923T193000
DTSTAMP:20260421T030959
CREATED:20211201T115547Z
LAST-MODIFIED:20211201T115547Z
UID:5424-1821725100-1821727800@anandaahmedabad.org
SUMMARY:Evening Meditation
DESCRIPTION:We start with Energization Exercises\, followed by chanting and meditation for about 22 minutes.
URL:https://anandaahmedabad.org/event/evening-meditation/2027-09-23/
END:VEVENT
BEGIN:VEVENT
DTSTART;TZID=UTC:20270923T184500
DTEND;TZID=UTC:20270923T193000
DTSTAMP:20260421T030959
CREATED:20211201T115547Z
LAST-MODIFIED:20211201T115547Z
UID:5396-1821725100-1821727800@anandaahmedabad.org
SUMMARY:Evening Meditation
DESCRIPTION:We start with Energization Exercises\, followed by chanting and meditation for about 22 minutes.
URL:https://anandaahmedabad.org/event/evening-meditation/2027-09-23/
END:VEVENT
BEGIN:VEVENT
DTSTART;TZID=UTC:20270924T064500
DTEND;TZID=UTC:20270924T073000
DTSTAMP:20260421T030959
CREATED:20211201T114604Z
LAST-MODIFIED:20211201T114604Z
UID:5302-1821768300-1821771000@anandaahmedabad.org
SUMMARY:Morning Meditation
DESCRIPTION:
URL:https://anandaahmedabad.org/event/morning-meditation-tue-fri/2027-09-24/
END:VEVENT
BEGIN:VEVENT
DTSTART;TZID=UTC:20270925T190000
DTEND;TZID=UTC:20270925T193000
DTSTAMP:20260421T030959
CREATED:20211201T120953Z
LAST-MODIFIED:20211201T120953Z
UID:5452-1821898800-1821900600@anandaahmedabad.org
SUMMARY:Evening Meditation
DESCRIPTION:We start with a chant followed by meditation of 22 minutes.
URL:https://anandaahmedabad.org/event/evening-meditation-2/2027-09-25/
END:VEVENT
BEGIN:VEVENT
DTSTART;TZID=UTC:20270928T064500
DTEND;TZID=UTC:20270928T073000
DTSTAMP:20260421T030959
CREATED:20211201T114604Z
LAST-MODIFIED:20211201T114604Z
UID:5303-1822113900-1822116600@anandaahmedabad.org
SUMMARY:Morning Meditation
DESCRIPTION:
URL:https://anandaahmedabad.org/event/morning-meditation-tue-fri/2027-09-28/
END:VEVENT
BEGIN:VEVENT
DTSTART;TZID=UTC:20270929T064500
DTEND;TZID=UTC:20270929T073000
DTSTAMP:20260421T030959
CREATED:20211201T114604Z
LAST-MODIFIED:20211201T114604Z
UID:5304-1822200300-1822203000@anandaahmedabad.org
SUMMARY:Morning Meditation
DESCRIPTION:
URL:https://anandaahmedabad.org/event/morning-meditation-tue-fri/2027-09-29/
END:VEVENT
END:VCALENDAR